BEGIN:VCALENDAR
VERSION:2.0
PRODID:-//Legacy Place Society - ECPv6.15.20//NONSGML v1.0//EN
CALSCALE:GREGORIAN
METHOD:PUBLISH
X-WR-CALNAME:Legacy Place Society
X-ORIGINAL-URL:https://legacyplacesociety.com
X-WR-CALDESC:Events for Legacy Place Society
REFRESH-INTERVAL;VALUE=DURATION:PT1H
X-Robots-Tag:noindex
X-PUBLISHED-TTL:PT1H
BEGIN:VTIMEZONE
TZID:UTC
BEGIN:STANDARD
TZOFFSETFROM:+0000
TZOFFSETTO:+0000
TZNAME:UTC
DTSTART:20250101T000000
END:STANDARD
END:VTIMEZONE
BEGIN:VEVENT
DTSTART;TZID=UTC:20260711T080000
DTEND;TZID=UTC:20260711T170000
DTSTAMP:20260420T135804
CREATED:20260112T210540Z
LAST-MODIFIED:20260112T210641Z
UID:9337-1783756800-1783789200@legacyplacesociety.com
SUMMARY:St. Albert First Responder Rodeo
DESCRIPTION:Join the First Responder Rodeo for a family friendly and fun event to promote interaction between First Responders and the public they serve in a Western lifestyle environment\, all while raising funds in support of First Responder PTSD and Child protection. \n\n\nThe Edmonton First Responders Rodeo Association was founded in 2017 by a group of Fire\, EMS and Police personnel\, along with some trusted advisors all with a common interest in bringing a friendly rodeo competition to the Edmonton area where Police\, Fire and EMS employees can compete in a fun\, family oriented\, western competition.  The Inaugural Edmonton First Responders Rodeo took place July 14th\, 2018. \nThe First Responder Rodeo is held in support of Legacy Place Society and The Zebra Child & Youth Advocacy Centre.
URL:https://legacyplacesociety.com/event/st-albert-first-responder-rodeo/
LOCATION:Kinsmen Rodeo Grounds\, 47 Riel Drive\, St.Albert\, AB\, T8N 3Z2\, Canada
CATEGORIES:Third-Party Events Benefiting Legacy Place Society
END:VEVENT
END:VCALENDAR