BEGIN:VCALENDAR
VERSION:2.0
PRODID:-//Legacy Place Society - ECPv6.15.20//NONSGML v1.0//EN
CALSCALE:GREGORIAN
METHOD:PUBLISH
X-WR-CALNAME:Legacy Place Society
X-ORIGINAL-URL:https://legacyplacesociety.com
X-WR-CALDESC:Events for Legacy Place Society
REFRESH-INTERVAL;VALUE=DURATION:PT1H
X-Robots-Tag:noindex
X-PUBLISHED-TTL:PT1H
BEGIN:VTIMEZONE
TZID:UTC
BEGIN:STANDARD
TZOFFSETFROM:+0000
TZOFFSETTO:+0000
TZNAME:UTC
DTSTART:20250101T000000
END:STANDARD
END:VTIMEZONE
BEGIN:VEVENT
DTSTART;TZID=UTC:20260605T180000
DTEND;TZID=UTC:20260607T140000
DTSTAMP:20260420T104125
CREATED:20260112T205304Z
LAST-MODIFIED:20260112T210209Z
UID:9335-1780682400-1780840800@legacyplacesociety.com
SUMMARY:2026 Annual Family Camp
DESCRIPTION:Legacy Place Society\, in partnership with Camp Kindle\, invite all First Responders\, Military\, Veterans and their families to join us for an unforgettable weekend retreat! \nThanks to the generosity of our key donors\, the entire experience is available at just $120 per person—regardless of age. This fee covers meals\, snacks\, activities\, and accommodations\, ensuring you and your family can focus on making memories without any hassle. \nJoin us at Camp Kindle\, nestled in the stunning Rocky Mountain Foothills near Water Valley\, Alberta. With 160 acres of scenic landscapes\, modern amenities\, and a welcoming environment\, our annual family camp promises a weekend full of nature-centered activities\, connection\, and relaxation for you and your family.
URL:https://legacyplacesociety.com/event/2026-annual-family-camp/
LOCATION:Camp Kindle\, 29479 Range Road 6.1 A\, Water Valley\, AB\, T0M 2E0\, Canada
CATEGORIES:Legacy Place Society Events
ORGANIZER;CN="Legacy Place Society":MAILTO:info@legacyplacesociety.com
END:VEVENT
BEGIN:VEVENT
DTSTART;TZID=UTC:20260613T083000
DTEND;TZID=UTC:20260613T150000
DTSTAMP:20260420T104125
CREATED:20260406T185456Z
LAST-MODIFIED:20260406T185456Z
UID:9705-1781339400-1781362800@legacyplacesociety.com
SUMMARY:Calgary Blue Knights AB V Honour Ride
DESCRIPTION:Join the Calgary Blue Knights AB V chapter for their 14th annual Poker Run & BBQ. \nRegistration starts at 8:30am\nKickstands up at 10am\nRide will start and end at Hotel Blackfoot. \nProceeds from this event will benefit Legacy Place Society and the BC & Ab Guide Dogs
URL:https://legacyplacesociety.com/event/calgary-blue-knights-ab-v-honour-ride/
LOCATION:Hotel Blackfoot\, 5940 Blackfoot Trail SE\, Calgary\, AB\, Canada
CATEGORIES:Third-Party Events Benefiting Legacy Place Society
END:VEVENT
END:VCALENDAR