BEGIN:VCALENDAR
VERSION:2.0
PRODID:-//Legacy Place Society - ECPv6.15.20//NONSGML v1.0//EN
CALSCALE:GREGORIAN
METHOD:PUBLISH
X-ORIGINAL-URL:https://legacyplacesociety.com
X-WR-CALDESC:Events for Legacy Place Society
REFRESH-INTERVAL;VALUE=DURATION:PT1H
X-Robots-Tag:noindex
X-PUBLISHED-TTL:PT1H
BEGIN:VTIMEZONE
TZID:UTC
BEGIN:STANDARD
TZOFFSETFROM:+0000
TZOFFSETTO:+0000
TZNAME:UTC
DTSTART:20250101T000000
END:STANDARD
END:VTIMEZONE
BEGIN:VEVENT
DTSTART;TZID=UTC:20260504T080000
DTEND;TZID=UTC:20260505T163000
DTSTAMP:20260420T090528
CREATED:20260312T201044Z
LAST-MODIFIED:20260414T213419Z
UID:9522-1777881600-1777998600@legacyplacesociety.com
SUMMARY:ASIST Training - Calgary May 4-5
DESCRIPTION:ASIST Training – Calgary May 4-5\, 2026 \nHosted by Legacy Place Society\, Applied Suicide Intervention Skills Training (ASIST) is a two-day interactive workshop in suicide first aid. ASIST teaches participants to recognize when someone may have thoughts of suicide and work with them to create a plan that will support their immediate safety. \nFor more information click here
URL:https://legacyplacesociety.com/event/asist-training-calgary-may-4-5/
LOCATION:333 96 Ave NE\, 333 96 Ave NE\, Calgary\, AB\, Canada
CATEGORIES:Legacy Place Society Events
ORGANIZER;CN="Legacy Place Society":MAILTO:info@legacyplacesociety.com
END:VEVENT
BEGIN:VEVENT
DTSTART;TZID=UTC:20260521T080000
DTEND;TZID=UTC:20260522T160000
DTSTAMP:20260420T090528
CREATED:20260218T161859Z
LAST-MODIFIED:20260406T184912Z
UID:9387-1779350400-1779465600@legacyplacesociety.com
SUMMARY:ASIST Training - Edmonton May 21-22
DESCRIPTION:ASIST Training – Edmonton May 21-22\, 2026 \nLocation 10420 157 St NW Edmonton\, AB \nHosted by Legacy Place Society\, Applied Suicide Intervention Skills Training (ASIST) is a two-day interactive workshop in suicide first aid. ASIST teaches participants to recognize when someone may have thoughts of suicide and work with them to create a plan that will support their immediate safety. \nFor more information and to register Click Here
URL:https://legacyplacesociety.com/event/asist-training-edmonton-may-12-13/
LOCATION:Edmonton Fire & Rescue\, 10420 157 Street NW\, Edmonton\, Alberta\, T5P2V5\, Canada
CATEGORIES:Legacy Place Society Events
ORGANIZER;CN="Legacy Place Society":MAILTO:info@legacyplacesociety.com
END:VEVENT
END:VCALENDAR